BEGIN:VCALENDAR
VERSION:2.0
PRODID:-//ChamberMaster//Event Calendar 2.0//EN
METHOD:PUBLISH
X-PUBLISHED-TTL:P1H
REFRESH-INTERVAL:P1H
CALSCALE:GREGORIAN
BEGIN:VTIMEZONE
TZID:America/Chicago
BEGIN:DAYLIGHT
RRULE:FREQ=YEARLY;BYMONTH=3;BYDAY=2SU
DTSTART:20070101T000000
TZOFFSETFROM:-0600
TZOFFSETTO:-0500
TZNAME:Central Daylight Time
END:DAYLIGHT
BEGIN:STANDARD
RRULE:FREQ=YEARLY;BYMONTH=11;BYDAY=1SU
DTSTART:20070101T000000
TZOFFSETFROM:-0500
TZOFFSETTO:-0600
TZNAME:Central Standard Time
END:STANDARD
END:VTIMEZONE
BEGIN:VEVENT
DTSTART;TZID=America/Chicago:20260520T113000
DTEND;TZID=America/Chicago:20260520T130000
X-MICROSOFT-CDO-ALLDAYEVENT:FALSE
SUMMARY:Ready to Respond: How to Reverse an Overdose Training with First Call!
DESCRIPTION:We’re pleased to welcome Lea Fleming\, Overdose Prevention Specialist with First Call\, who will lead an engaging and practical training focused on recognizing the signs of an overdose and administering naloxone. This session will equip Waldo businesses with the tools and confidence to respond effectively in critical moments.
X-ALT-DESC;FMTTYPE=text/html:We’re pleased to welcome Lea Fleming\, Overdose Prevention Specialist with First Call\, who will lead an engaging and practical training focused on recognizing the signs of an overdose and administering naloxone. This session will equip Waldo businesses with the tools and confidence to respond effectively in critical moments.
LOCATION:7850 Holmes Road Kansas City MO 64131
UID:e.2707.1439185
SEQUENCE:3
DTSTAMP:20260422T102334Z
URL:https://members.waldokc.org/committee-meetings/Details/ready-to-respond-how-to-reverse-an-overdose-training-with-first-call-1703404?sourceTypeId=Hub
END:VEVENT
END:VCALENDAR
